BEGIN:VCALENDAR
VERSION:2.0
PRODID:-//Department Of Education//b48f7017-6b9f-41eb-b990-e1f736b3c2e1
BEGIN:VTIMEZONE
TZID:Australia/Sydney
TZURL:http://tzurl.org/zoneinfo-outlook/Australia/Sydney
X-LIC-LOCATION:Australia/Sydney
BEGIN:STANDARD
TZOFFSETFROM:+1100
TZOFFSETTO:+1000
TZNAME:AEST
DTSTART:19700405T030000
RRULE:FREQ=YEARLY;BYMONTH=4;BYDAY=1SU
END:STANDARD
BEGIN:DAYLIGHT
TZOFFSETFROM:+1000
TZOFFSETTO:+1100
TZNAME:AEDT
DTSTART:19701004T020000
RRULE:FREQ=YEARLY;BYMONTH=10;BYDAY=1SU
END:DAYLIGHT
END:VTIMEZONE
CALSCALE:GREGORIAN
X-WR-TIMEZONE:Australia/Sydney
BEGIN:VEVENT
DTSTART;TZID=Australia/Sydney:20200221T140000
DTEND;TZID=Australia/Sydney:20200221T150000
DTSTAMP:20200221T000000Z
UID:7ef4aaa5-4093-4457-8a87-f080c7077fec
LOCATION:Seven Hills Public School
SUMMARY;LANGUAGE=en-us:School Assembly
RRULE:FREQ=WEEKLY;INTERVAL=2;UNTIL=20200409;
SEQUENCE:0
DESCRIPTION:Parents and community are welcome to join us to celebrate our students at our fortnightly assembly.
END:VEVENT
TRANSP:TRANSPARENT
END:VCALENDAR
